BEGIN:VCALENDAR
PRODID:-//HKUST Drupal Platform//EN
VERSION:2.0
BEGIN:VTIMEZONE
TZID:Asia/Hong_Kong
BEGIN:STANDARD
DTSTART:20071104T020000
TZOFFSETFROM:+0700
TZOFFSETTO:+0800
TZNAME:HKT
END:STANDARD
END:VTIMEZONE
BEGIN:VEVENT
DTSTAMP;TZID=Asia/Hong_Kong:20260420T172724
DTSTART;TZID=Asia/Hong_Kong:20170615T143000
DTEND;TZID=Asia/Hong_Kong:20170615T173000
LOCATION:Rm 5047 (Lifts 1-2) 5/F, Lee Shau Kee Business Building, HKUST
SUMMARY:PhD in Management - When Forgiveness Hurts Relationships: A Lens of Communication
UID:26079
END:VEVENT
END:VCALENDAR