BEGIN:VCALENDAR
PRODID:-//HKUST Drupal Platform//EN
VERSION:2.0
BEGIN:VTIMEZONE
TZID:Asia/Hong_Kong
BEGIN:STANDARD
DTSTART:20071104T020000
TZOFFSETFROM:+0700
TZOFFSETTO:+0800
TZNAME:HKT
END:STANDARD
END:VTIMEZONE
BEGIN:VEVENT
DTSTAMP;TZID=Asia/Hong_Kong:20260420T172722
DTSTART;TZID=Asia/Hong_Kong:20170616T150000
DTEND;TZID=Asia/Hong_Kong:20170616T180000
LOCATION:Rm2612A (Lift 31-32)
SUMMARY:MPhil in Bioengineering - Synthesis and Characterization of the Impact of Alkyl Side-chain of 2,5-bis(4-methoxyphenyl)-1-methyl-1,3,4-triphenyl-silole on its Aggregation Induced Emission and Hydrophobic Interactions
UID:26069
END:VEVENT
END:VCALENDAR