BEGIN:VCALENDAR
PRODID:-//HKUST Drupal Platform//EN
VERSION:2.0
BEGIN:VTIMEZONE
TZID:Asia/Hong_Kong
BEGIN:STANDARD
DTSTART:20071104T020000
TZOFFSETFROM:+0700
TZOFFSETTO:+0800
TZNAME:HKT
END:STANDARD
END:VTIMEZONE
BEGIN:VEVENT
DTSTAMP;TZID=Asia/Hong_Kong:20260423T072719
DTSTART;TZID=Asia/Hong_Kong:20170622T150000
DTEND;TZID=Asia/Hong_Kong:20170622T170000
LOCATION:Room 4047, LSK Building, HKUST
SUMMARY:MPhil in Technology Leadership and Entrepreneurship (TLE) - Peachy: A Solution to DIY Travel Planning
UID:26033
END:VEVENT
END:VCALENDAR