BEGIN:VCALENDAR
PRODID:-//HKUST Drupal Platform//EN
VERSION:2.0
BEGIN:VTIMEZONE
TZID:Asia/Hong_Kong
BEGIN:STANDARD
DTSTART:20071104T020000
TZOFFSETFROM:+0700
TZOFFSETTO:+0800
TZNAME:HKT
END:STANDARD
END:VTIMEZONE
BEGIN:VEVENT
DTSTAMP;TZID=Asia/Hong_Kong:20260420T171528
DTSTART;TZID=Asia/Hong_Kong:20170626T090000
DTEND;TZID=Asia/Hong_Kong:20170626T120000
LOCATION:Room 2612B (Lifts 31 & 32), 2/F Academic Building, HKUST
SUMMARY:PhD in Electronic and Computer Engineering - Real-time Localization and Mapping for Autonomous Navigation
UID:26017
END:VEVENT
END:VCALENDAR