BEGIN:VCALENDAR
PRODID:-//HKUST Drupal Platform//EN
VERSION:2.0
BEGIN:VTIMEZONE
TZID:Asia/Hong_Kong
BEGIN:STANDARD
DTSTART:20071104T020000
TZOFFSETFROM:+0700
TZOFFSETTO:+0800
TZNAME:HKT
END:STANDARD
END:VTIMEZONE
BEGIN:VEVENT
DTSTAMP;TZID=Asia/Hong_Kong:20260420T213044
DTSTART;TZID=Asia/Hong_Kong:20170626T140000
DTEND;TZID=Asia/Hong_Kong:20170626T170000
LOCATION:3401 (via lifts 2 or 17-18), Academic Building, HKUST
SUMMARY:MPhil in Social Science - Origins of University Coeducation in China: Beyond the May Fourth Movement
UID:26009
END:VEVENT
END:VCALENDAR