BEGIN:VCALENDAR
PRODID:-//HKUST Drupal Platform//EN
VERSION:2.0
BEGIN:VTIMEZONE
TZID:Asia/Hong_Kong
BEGIN:STANDARD
DTSTART:20071104T020000
TZOFFSETFROM:+0700
TZOFFSETTO:+0800
TZNAME:HKT
END:STANDARD
END:VTIMEZONE
BEGIN:VEVENT
DTSTAMP;TZID=Asia/Hong_Kong:20260420T185833
DTSTART;TZID=Asia/Hong_Kong:20170628T153000
DTEND;TZID=Asia/Hong_Kong:20170628T183000
LOCATION:Room 2612B (Lifts 31 & 32), 2/F Academic Building, HKUST
SUMMARY:MPhil in Electronic and Computer Engineering - Phase Change Memory Cell with CMOS Compatible Vertically Aligned Carbon Nanotube Electrode
UID:25990
END:VEVENT
END:VCALENDAR