BEGIN:VCALENDAR
PRODID:-//HKUST Drupal Platform//EN
VERSION:2.0
BEGIN:VTIMEZONE
TZID:Asia/Hong_Kong
BEGIN:STANDARD
DTSTART:20071104T020000
TZOFFSETFROM:+0700
TZOFFSETTO:+0800
TZNAME:HKT
END:STANDARD
END:VTIMEZONE
BEGIN:VEVENT
DTSTAMP;TZID=Asia/Hong_Kong:20260420T202548
DTSTART;TZID=Asia/Hong_Kong:20170707T103000
DTEND;TZID=Asia/Hong_Kong:20170707T133000
LOCATION:Room 2610 (Lifts 31-32), 2/F Academic Building, HKUST
SUMMARY:MPhil in Electronic & Comp Engg - Hand Pose Estimation using Single Depth Image
UID:25942
END:VEVENT
END:VCALENDAR