BEGIN:VCALENDAR
PRODID:-//HKUST Drupal Platform//EN
VERSION:2.0
BEGIN:VTIMEZONE
TZID:Asia/Hong_Kong
BEGIN:STANDARD
DTSTART:20071104T020000
TZOFFSETFROM:+0700
TZOFFSETTO:+0800
TZNAME:HKT
END:STANDARD
END:VTIMEZONE
BEGIN:VEVENT
DTSTAMP;TZID=Asia/Hong_Kong:20260420T185844
DTSTART;TZID=Asia/Hong_Kong:20170710T140000
DTEND;TZID=Asia/Hong_Kong:20170710T170000
LOCATION:Room 2612A (Lifts 31-32), 2/F Academic Building, HKUST
SUMMARY:PhD in Computer Science & Engg - Label Inference for Atlas-based Sub-cortical Structure Segmentation in Brain Magnetic Resonance Images
UID:25933
END:VEVENT
END:VCALENDAR