BEGIN:VCALENDAR
PRODID:-//HKUST Drupal Platform//EN
VERSION:2.0
BEGIN:VTIMEZONE
TZID:Asia/Hong_Kong
BEGIN:STANDARD
DTSTART:20071104T020000
TZOFFSETFROM:+0700
TZOFFSETTO:+0800
TZNAME:HKT
END:STANDARD
END:VTIMEZONE
BEGIN:VEVENT
DTSTAMP;TZID=Asia/Hong_Kong:20260420T185834
DTSTART;TZID=Asia/Hong_Kong:20170711T150000
DTEND;TZID=Asia/Hong_Kong:20170711T180000
LOCATION:Room 2404 (Lifts 17-18), 2/F Academic Building, HKUST
SUMMARY:MPhil in Life Science - Functional Study of Paxbp1 in Adult Muscle Satellite Cells
UID:25925
END:VEVENT
END:VCALENDAR