BEGIN:VCALENDAR
PRODID:-//HKUST Drupal Platform//EN
VERSION:2.0
BEGIN:VTIMEZONE
TZID:Asia/Hong_Kong
BEGIN:STANDARD
DTSTART:20071104T020000
TZOFFSETFROM:+0700
TZOFFSETTO:+0800
TZNAME:HKT
END:STANDARD
END:VTIMEZONE
BEGIN:VEVENT
DTSTAMP;TZID=Asia/Hong_Kong:20260421T013903
DTSTART;TZID=Asia/Hong_Kong:20170718T150000
DTEND;TZID=Asia/Hong_Kong:20170718T180000
LOCATION:Room 2612A (Lifts 31 & 32), 2/F Academic Building, HKUST
SUMMARY:PhD in Electronic and Computer Engineering - CMOS-Compatible Carbon Nanotube Via Technology
UID:25873
END:VEVENT
END:VCALENDAR