BEGIN:VCALENDAR
PRODID:-//HKUST Drupal Platform//EN
VERSION:2.0
BEGIN:VTIMEZONE
TZID:Asia/Hong_Kong
BEGIN:STANDARD
DTSTART:20071104T020000
TZOFFSETFROM:+0700
TZOFFSETTO:+0800
TZNAME:HKT
END:STANDARD
END:VTIMEZONE
BEGIN:VEVENT
DTSTAMP;TZID=Asia/Hong_Kong:20260420T215419
DTSTART;TZID=Asia/Hong_Kong:20170719T100000
DTEND;TZID=Asia/Hong_Kong:20170719T130000
LOCATION:Room 3301 (via lifts 17-18), Academic Building, HKUST
SUMMARY:PhD in Social Science - Social Participation, Neighborhood, and Subjective Well-being of Chinese Elderly
UID:25872
END:VEVENT
END:VCALENDAR