BEGIN:VCALENDAR
PRODID:-//HKUST Drupal Platform//EN
VERSION:2.0
BEGIN:VTIMEZONE
TZID:Asia/Hong_Kong
BEGIN:STANDARD
DTSTART:20071104T020000
TZOFFSETFROM:+0700
TZOFFSETTO:+0800
TZNAME:HKT
END:STANDARD
END:VTIMEZONE
BEGIN:VEVENT
DTSTAMP;TZID=Asia/Hong_Kong:20260420T215421
DTSTART;TZID=Asia/Hong_Kong:20170720T110000
DTEND;TZID=Asia/Hong_Kong:20170720T123000
LOCATION:Room 5583, Lift 27-28
SUMMARY:MPhil in Industrial Engineering and Logistics Management - A New Adaptive Slicing Algorithm Based on Contour Reconstruction in Layered Manufacturing Process
UID:25865
END:VEVENT
END:VCALENDAR