BEGIN:VCALENDAR
PRODID:-//HKUST Drupal Platform//EN
VERSION:2.0
BEGIN:VTIMEZONE
TZID:Asia/Hong_Kong
BEGIN:STANDARD
DTSTART:20071104T020000
TZOFFSETFROM:+0700
TZOFFSETTO:+0800
TZNAME:HKT
END:STANDARD
END:VTIMEZONE
BEGIN:VEVENT
DTSTAMP;TZID=Asia/Hong_Kong:20260421T013902
DTSTART;TZID=Asia/Hong_Kong:20170720T140000
DTEND;TZID=Asia/Hong_Kong:20170720T170000
LOCATION:Room 2612B (Lifts 31-32), 2/F Academic Building, HKUST
SUMMARY:PhD in Mechanical Engineering - Graphene Aerogel/Polymer Nanocomposites with Ordered Structures and Multi-Functional Properties
UID:25864
END:VEVENT
END:VCALENDAR