BEGIN:VCALENDAR
PRODID:-//HKUST Drupal Platform//EN
VERSION:2.0
BEGIN:VTIMEZONE
TZID:Asia/Hong_Kong
BEGIN:STANDARD
DTSTART:20071104T020000
TZOFFSETFROM:+0700
TZOFFSETTO:+0800
TZNAME:HKT
END:STANDARD
END:VTIMEZONE
BEGIN:VEVENT
DTSTAMP;TZID=Asia/Hong_Kong:20260421T013909
DTSTART;TZID=Asia/Hong_Kong:20170721T100000
DTEND;TZID=Asia/Hong_Kong:20170721T130000
LOCATION:Room 2571B (Lifts 27-28), 2/F Academic Building, HKUST
SUMMARY:MPhil in Mechanical Engineering - A Vision-based Absolute Three-axis Orientation Sensing Method
UID:25863
END:VEVENT
END:VCALENDAR