BEGIN:VCALENDAR
PRODID:-//HKUST Drupal Platform//EN
VERSION:2.0
BEGIN:VTIMEZONE
TZID:Asia/Hong_Kong
BEGIN:STANDARD
DTSTART:20071104T020000
TZOFFSETFROM:+0700
TZOFFSETTO:+0800
TZNAME:HKT
END:STANDARD
END:VTIMEZONE
BEGIN:VEVENT
DTSTAMP;TZID=Asia/Hong_Kong:20260421T004250
DTSTART;TZID=Asia/Hong_Kong:20170721T103000
DTEND;TZID=Asia/Hong_Kong:20170721T133000
LOCATION:LTH
SUMMARY:PhD in Bioengineering - Aggregation-Induced Emission Bioprobes for Cellular Imaging, Process Monitoring and Cancer Therapy
UID:25860
END:VEVENT
END:VCALENDAR