BEGIN:VCALENDAR
PRODID:-//HKUST Drupal Platform//EN
VERSION:2.0
BEGIN:VTIMEZONE
TZID:Asia/Hong_Kong
BEGIN:STANDARD
DTSTART:20071104T020000
TZOFFSETFROM:+0700
TZOFFSETTO:+0800
TZNAME:HKT
END:STANDARD
END:VTIMEZONE
BEGIN:VEVENT
DTSTAMP;TZID=Asia/Hong_Kong:20260421T013901
DTSTART;TZID=Asia/Hong_Kong:20170721T130000
DTEND;TZID=Asia/Hong_Kong:20170721T160000
LOCATION:Room 4504 (Lifts 25-26), 4/F Academic Building, HKUST
SUMMARY:MPhil in Tech Leader & Entrepre - Perceived Emotional Intelligence of Virtual Agents
UID:25859
END:VEVENT
END:VCALENDAR