BEGIN:VCALENDAR
PRODID:-//HKUST Drupal Platform//EN
VERSION:2.0
BEGIN:VTIMEZONE
TZID:Asia/Hong_Kong
BEGIN:STANDARD
DTSTART:20071104T020000
TZOFFSETFROM:+0700
TZOFFSETTO:+0800
TZNAME:HKT
END:STANDARD
END:VTIMEZONE
BEGIN:VEVENT
DTSTAMP;TZID=Asia/Hong_Kong:20260421T013900
DTSTART;TZID=Asia/Hong_Kong:20170722T140000
DTEND;TZID=Asia/Hong_Kong:20170722T170000
LOCATION:Room 6045 (Lifts 1-2), 6/F Lee Shau Kee Business Building, HKUST
SUMMARY:PhD in Economics - Essays on Service Economy
UID:25856
END:VEVENT
END:VCALENDAR