BEGIN:VCALENDAR
PRODID:-//HKUST Drupal Platform//EN
VERSION:2.0
BEGIN:VTIMEZONE
TZID:Asia/Hong_Kong
BEGIN:STANDARD
DTSTART:20071104T020000
TZOFFSETFROM:+0700
TZOFFSETTO:+0800
TZNAME:HKT
END:STANDARD
END:VTIMEZONE
BEGIN:VEVENT
DTSTAMP;TZID=Asia/Hong_Kong:20260421T013901
DTSTART;TZID=Asia/Hong_Kong:20170724T170000
DTEND;TZID=Asia/Hong_Kong:20170724T200000
LOCATION:Room 2130B (Lift 19), 2/F Academic Building, HKUST
SUMMARY:PhD in Computer Science & Engg - Cross-Column Redundancy: Concept, Detection and Application
UID:25846
END:VEVENT
END:VCALENDAR