BEGIN:VCALENDAR
PRODID:-//HKUST Drupal Platform//EN
VERSION:2.0
BEGIN:VTIMEZONE
TZID:Asia/Hong_Kong
BEGIN:STANDARD
DTSTART:20071104T020000
TZOFFSETFROM:+0700
TZOFFSETTO:+0800
TZNAME:HKT
END:STANDARD
END:VTIMEZONE
BEGIN:VEVENT
DTSTAMP;TZID=Asia/Hong_Kong:20260421T070606
DTSTART;TZID=Asia/Hong_Kong:20170724T170000
DTEND;TZID=Asia/Hong_Kong:20170724T190000
LOCATION:Room 2130B (lift 19)
SUMMARY:PhD in Computer Science and Engineering - Cross-Column Redundancy: Concept, Detection and Application
UID:25845
END:VEVENT
END:VCALENDAR