BEGIN:VCALENDAR
PRODID:-//HKUST Drupal Platform//EN
VERSION:2.0
BEGIN:VTIMEZONE
TZID:Asia/Hong_Kong
BEGIN:STANDARD
DTSTART:20071104T020000
TZOFFSETFROM:+0700
TZOFFSETTO:+0800
TZNAME:HKT
END:STANDARD
END:VTIMEZONE
BEGIN:VEVENT
DTSTAMP;TZID=Asia/Hong_Kong:20260420T214845
DTSTART;TZID=Asia/Hong_Kong:20170726T100000
DTEND;TZID=Asia/Hong_Kong:20170726T130000
LOCATION:Room 3574 (Lifts 27-28), 3/F Academic Building, HKUST
SUMMARY:MPhil in Environmental Engg - Biochemical Sulfide Potential (BSP) Test for Biotechnological Applications of Sulfidogenesis.
UID:25840
END:VEVENT
END:VCALENDAR