BEGIN:VCALENDAR
PRODID:-//HKUST Drupal Platform//EN
VERSION:2.0
BEGIN:VTIMEZONE
TZID:Asia/Hong_Kong
BEGIN:STANDARD
DTSTART:20071104T020000
TZOFFSETFROM:+0700
TZOFFSETTO:+0800
TZNAME:HKT
END:STANDARD
END:VTIMEZONE
BEGIN:VEVENT
DTSTAMP;TZID=Asia/Hong_Kong:20260423T072725
DTSTART;TZID=Asia/Hong_Kong:20170728T143000
DTEND;TZID=Asia/Hong_Kong:20170728T173000
LOCATION:Rm 4047, Lee Shau Kee Buisness Building, HKUST
SUMMARY:PhD in Management - Strategies of Private Firms in the Emerging Market
UID:25816
END:VEVENT
END:VCALENDAR