BEGIN:VCALENDAR
PRODID:-//HKUST Drupal Platform//EN
VERSION:2.0
BEGIN:VTIMEZONE
TZID:Asia/Hong_Kong
BEGIN:STANDARD
DTSTART:20071104T020000
TZOFFSETFROM:+0700
TZOFFSETTO:+0800
TZNAME:HKT
END:STANDARD
END:VTIMEZONE
BEGIN:VEVENT
DTSTAMP;TZID=Asia/Hong_Kong:20260423T072724
DTSTART;TZID=Asia/Hong_Kong:20170728T143000
DTEND;TZID=Asia/Hong_Kong:20170728T173000
LOCATION:Room 3401 (via lifts 17-18), Academic Building, HKUST
SUMMARY:MPhil in Social Science - A Mixed Method Study of Chinese Adaptation and Ethnic Contexts in Zambia
UID:25812
END:VEVENT
END:VCALENDAR