BEGIN:VCALENDAR
PRODID:-//HKUST Drupal Platform//EN
VERSION:2.0
BEGIN:VTIMEZONE
TZID:Asia/Hong_Kong
BEGIN:STANDARD
DTSTART:20071104T020000
TZOFFSETFROM:+0700
TZOFFSETTO:+0800
TZNAME:HKT
END:STANDARD
END:VTIMEZONE
BEGIN:VEVENT
DTSTAMP;TZID=Asia/Hong_Kong:20260423T072917
DTSTART;TZID=Asia/Hong_Kong:20170802T140000
DTEND;TZID=Asia/Hong_Kong:20170802T170000
LOCATION:Room 2406 (Lifts 17-18), 2/F Academic Building, HKUST
SUMMARY:PhD in Envrl Sci, Policy & Mgmt - Bayesian Semi-parametric Inference via Quasi-posterior Distributions and its Applications to Environmental Science and Policy
UID:25777
END:VEVENT
END:VCALENDAR