BEGIN:VCALENDAR
PRODID:-//HKUST Drupal Platform//EN
VERSION:2.0
BEGIN:VTIMEZONE
TZID:Asia/Hong_Kong
BEGIN:STANDARD
DTSTART:20071104T020000
TZOFFSETFROM:+0700
TZOFFSETTO:+0800
TZNAME:HKT
END:STANDARD
END:VTIMEZONE
BEGIN:VEVENT
DTSTAMP;TZID=Asia/Hong_Kong:20260423T072725
DTSTART;TZID=Asia/Hong_Kong:20170802T153000
DTEND;TZID=Asia/Hong_Kong:20170802T183000
LOCATION:Room 3401, Academic Building (Lift no. 2)
SUMMARY:PhD in Humanities - On Chan Buddhism as a Kind of Philosophical Counseling: A Possible Way of Modern Interpretation of Philosophy of Chan Buddhism and Construction of Philosophical Counseling of Chan Buddhism
UID:25769
END:VEVENT
END:VCALENDAR