BEGIN:VCALENDAR
PRODID:-//HKUST Drupal Platform//EN
VERSION:2.0
BEGIN:VTIMEZONE
TZID:Asia/Hong_Kong
BEGIN:STANDARD
DTSTART:20071104T020000
TZOFFSETFROM:+0700
TZOFFSETTO:+0800
TZNAME:HKT
END:STANDARD
END:VTIMEZONE
BEGIN:VEVENT
DTSTAMP;TZID=Asia/Hong_Kong:20260423T072919
DTSTART;TZID=Asia/Hong_Kong:20170803T140000
DTEND;TZID=Asia/Hong_Kong:20170803T170000
LOCATION:Room 4621 (Lifts 31-32), 4/F Academic Building, HKUST
SUMMARY:PhD in Electronic and Computer Engineering - High-Efficiency Fully- and Highly-Integrated Switched-Capacitor DC-DC Converters
UID:25757
END:VEVENT
END:VCALENDAR