BEGIN:VCALENDAR
PRODID:-//HKUST Drupal Platform//EN
VERSION:2.0
BEGIN:VTIMEZONE
TZID:Asia/Hong_Kong
BEGIN:STANDARD
DTSTART:20071104T020000
TZOFFSETFROM:+0700
TZOFFSETTO:+0800
TZNAME:HKT
END:STANDARD
END:VTIMEZONE
BEGIN:VEVENT
DTSTAMP;TZID=Asia/Hong_Kong:20260425T225904
DTSTART;TZID=Asia/Hong_Kong:20170809T100000
DTEND;TZID=Asia/Hong_Kong:20170809T113000
LOCATION:Room 5047 (Lifts 1-2), 5/F Lee Shau Kee Business Building, HKUST
SUMMARY:MPhil in Finance - Does Dissemination of Public Information Matter?
UID:25693
END:VEVENT
END:VCALENDAR