BEGIN:VCALENDAR
PRODID:-//HKUST Drupal Platform//EN
VERSION:2.0
BEGIN:VTIMEZONE
TZID:Asia/Hong_Kong
BEGIN:STANDARD
DTSTART:20071104T020000
TZOFFSETFROM:+0700
TZOFFSETTO:+0800
TZNAME:HKT
END:STANDARD
END:VTIMEZONE
BEGIN:VEVENT
DTSTAMP;TZID=Asia/Hong_Kong:20260423T090328
DTSTART;TZID=Asia/Hong_Kong:20170809T140000
DTEND;TZID=Asia/Hong_Kong:20170809T170000
LOCATION:Room 3598  (Lifts 27 - 28) HKUST
SUMMARY:PhD in Environmental Engineering - Adsorption Study of Metal Ions by Aluminosilicate Based Material
UID:25687
END:VEVENT
END:VCALENDAR