BEGIN:VCALENDAR
PRODID:-//HKUST Drupal Platform//EN
VERSION:2.0
BEGIN:VTIMEZONE
TZID:Asia/Hong_Kong
BEGIN:STANDARD
DTSTART:20071104T020000
TZOFFSETFROM:+0700
TZOFFSETTO:+0800
TZNAME:HKT
END:STANDARD
END:VTIMEZONE
BEGIN:VEVENT
DTSTAMP;TZID=Asia/Hong_Kong:20260423T090320
DTSTART;TZID=Asia/Hong_Kong:20170810T100000
DTEND;TZID=Asia/Hong_Kong:20170810T120000
LOCATION:Room 3574, Lift nos. 27 - 28
SUMMARY:MPhil in Environmental Engineering - Investigation of high chlorine consumption during disinfection of a primary wastewater effluent
UID:25671
END:VEVENT
END:VCALENDAR