BEGIN:VCALENDAR
PRODID:-//HKUST Drupal Platform//EN
VERSION:2.0
BEGIN:VTIMEZONE
TZID:Asia/Hong_Kong
BEGIN:STANDARD
DTSTART:20071104T020000
TZOFFSETFROM:+0700
TZOFFSETTO:+0800
TZNAME:HKT
END:STANDARD
END:VTIMEZONE
BEGIN:VEVENT
DTSTAMP;TZID=Asia/Hong_Kong:20260423T090322
DTSTART;TZID=Asia/Hong_Kong:20170811T100000
DTEND;TZID=Asia/Hong_Kong:20170811T130000
LOCATION:Room 1511 (Lifts 27-28), 1/F Academic Building, HKUST
SUMMARY:MPhil in Chem & Biomolecular Engg - Removal of Pharmaceutical from Effluent Using Activated Palm Kernel Shell (PKS)
UID:25659
END:VEVENT
END:VCALENDAR