BEGIN:VCALENDAR
PRODID:-//HKUST Drupal Platform//EN
VERSION:2.0
BEGIN:VTIMEZONE
TZID:Asia/Hong_Kong
BEGIN:STANDARD
DTSTART:20071104T020000
TZOFFSETFROM:+0700
TZOFFSETTO:+0800
TZNAME:HKT
END:STANDARD
END:VTIMEZONE
BEGIN:VEVENT
DTSTAMP;TZID=Asia/Hong_Kong:20260423T090320
DTSTART;TZID=Asia/Hong_Kong:20170811T103000
DTEND;TZID=Asia/Hong_Kong:20170811T133000
LOCATION:Room 1505 (Lifts 25/26), 1/F Academic Building, HKUST
SUMMARY:MPhil in Life Science - A Role of MTC1 in Membrane Trafficking
UID:25651
END:VEVENT
END:VCALENDAR