BEGIN:VCALENDAR
PRODID:-//HKUST Drupal Platform//EN
VERSION:2.0
BEGIN:VTIMEZONE
TZID:Asia/Hong_Kong
BEGIN:STANDARD
DTSTART:20071104T020000
TZOFFSETFROM:+0700
TZOFFSETTO:+0800
TZNAME:HKT
END:STANDARD
END:VTIMEZONE
BEGIN:VEVENT
DTSTAMP;TZID=Asia/Hong_Kong:20260423T105006
DTSTART;TZID=Asia/Hong_Kong:20170814T143000
DTEND;TZID=Asia/Hong_Kong:20170814T173000
LOCATION:Rm4503 (Lifts 25-26), HKUST
SUMMARY:MPhil in Chemistry - Fabrication and Studies of Highly Efficient Non-Fullerene Organic Solar Cells
UID:25624
END:VEVENT
END:VCALENDAR