BEGIN:VCALENDAR
PRODID:-//HKUST Drupal Platform//EN
VERSION:2.0
BEGIN:VTIMEZONE
TZID:Asia/Hong_Kong
BEGIN:STANDARD
DTSTART:20071104T020000
TZOFFSETFROM:+0700
TZOFFSETTO:+0800
TZNAME:HKT
END:STANDARD
END:VTIMEZONE
BEGIN:VEVENT
DTSTAMP;TZID=Asia/Hong_Kong:20260423T105005
DTSTART;TZID=Asia/Hong_Kong:20170815T150000
DTEND;TZID=Asia/Hong_Kong:20170815T180000
LOCATION:Room 3401 (via lifts 17-18), Academic Building, HKUST
SUMMARY:PhD in Social Science - Essays on College Major Choice: Evidence from China\'s College Entrance Exam
UID:25607
END:VEVENT
END:VCALENDAR