BEGIN:VCALENDAR
PRODID:-//HKUST Drupal Platform//EN
VERSION:2.0
BEGIN:VTIMEZONE
TZID:Asia/Hong_Kong
BEGIN:STANDARD
DTSTART:20071104T020000
TZOFFSETFROM:+0700
TZOFFSETTO:+0800
TZNAME:HKT
END:STANDARD
END:VTIMEZONE
BEGIN:VEVENT
DTSTAMP;TZID=Asia/Hong_Kong:20260423T105004
DTSTART;TZID=Asia/Hong_Kong:20170816T103000
DTEND;TZID=Asia/Hong_Kong:20170816T123000
LOCATION:Room 3598 (Lifts 27-28), 3/F Academic Building, HKUST
SUMMARY:MPhil in Technology Leadership and Entrepreneurship (TLE) - A User Experience Design of Travel Planning by using Metaphor
UID:25595
END:VEVENT
END:VCALENDAR