BEGIN:VCALENDAR
PRODID:-//HKUST Drupal Platform//EN
VERSION:2.0
BEGIN:VTIMEZONE
TZID:Asia/Hong_Kong
BEGIN:STANDARD
DTSTART:20071104T020000
TZOFFSETFROM:+0700
TZOFFSETTO:+0800
TZNAME:HKT
END:STANDARD
END:VTIMEZONE
BEGIN:VEVENT
DTSTAMP;TZID=Asia/Hong_Kong:20260423T105004
DTSTART;TZID=Asia/Hong_Kong:20170816T150000
DTEND;TZID=Asia/Hong_Kong:20170816T180000
LOCATION:Rm4504 (Lifts 25-26), 4/F, Academic Building, HKUST
SUMMARY:PhD in Chemistry - High Performance Organic Solar Cells: From Molecular Design to Morphology Optimization
UID:25583
END:VEVENT
END:VCALENDAR