BEGIN:VCALENDAR
PRODID:-//HKUST Drupal Platform//EN
VERSION:2.0
BEGIN:VTIMEZONE
TZID:Asia/Hong_Kong
BEGIN:STANDARD
DTSTART:20071104T020000
TZOFFSETFROM:+0700
TZOFFSETTO:+0800
TZNAME:HKT
END:STANDARD
END:VTIMEZONE
BEGIN:VEVENT
DTSTAMP;TZID=Asia/Hong_Kong:20260423T105004
DTSTART;TZID=Asia/Hong_Kong:20170817T140000
DTEND;TZID=Asia/Hong_Kong:20170817T170000
LOCATION:Room 2610 (Lifts 31-32), 2/F Academic Building, HKUST
SUMMARY:MPhil in Computer Science & Engg - Spatiotemporal Modeling for Crowd Counting in Videos
UID:25566
END:VEVENT
END:VCALENDAR