BEGIN:VCALENDAR
PRODID:-//HKUST Drupal Platform//EN
VERSION:2.0
BEGIN:VTIMEZONE
TZID:Asia/Hong_Kong
BEGIN:STANDARD
DTSTART:20071104T020000
TZOFFSETFROM:+0700
TZOFFSETTO:+0800
TZNAME:HKT
END:STANDARD
END:VTIMEZONE
BEGIN:VEVENT
DTSTAMP;TZID=Asia/Hong_Kong:20260423T140517
DTSTART;TZID=Asia/Hong_Kong:20170817T140000
DTEND;TZID=Asia/Hong_Kong:20170817T160000
LOCATION:Room 2610 (lifts 31/32)
SUMMARY:MPhil in Computer Science and Engineering - SPATIOTEMPORAL MODELING FOR CROWD COUNTING IN VIDEOS
UID:25565
END:VEVENT
END:VCALENDAR