BEGIN:VCALENDAR
PRODID:-//HKUST Drupal Platform//EN
VERSION:2.0
BEGIN:VTIMEZONE
TZID:Asia/Hong_Kong
BEGIN:STANDARD
DTSTART:20071104T020000
TZOFFSETFROM:+0700
TZOFFSETTO:+0800
TZNAME:HKT
END:STANDARD
END:VTIMEZONE
BEGIN:VEVENT
DTSTAMP;TZID=Asia/Hong_Kong:20260423T105007
DTSTART;TZID=Asia/Hong_Kong:20170817T140000
DTEND;TZID=Asia/Hong_Kong:20170817T150000
LOCATION:Room 2304 (Lifts 17-18 ) 2/F Academic Building, HKUST
SUMMARY:MPhil in Environmental Science, Policy and Management - Climate Change Policy Concepts and the Paris Agreement: The Influence of \"Pledge and Review\" and \"Carbon Budget”
UID:25564
END:VEVENT
END:VCALENDAR