BEGIN:VCALENDAR
PRODID:-//HKUST Drupal Platform//EN
VERSION:2.0
BEGIN:VTIMEZONE
TZID:Asia/Hong_Kong
BEGIN:STANDARD
DTSTART:20071104T020000
TZOFFSETFROM:+0700
TZOFFSETTO:+0800
TZNAME:HKT
END:STANDARD
END:VTIMEZONE
BEGIN:VEVENT
DTSTAMP;TZID=Asia/Hong_Kong:20260425T111628
DTSTART;TZID=Asia/Hong_Kong:20170818T150000
DTEND;TZID=Asia/Hong_Kong:20170818T180000
LOCATION:Room 4582 (Lifts 29-30), 4/F Acdemic Building, HKUST
SUMMARY:MPhil in Chem & Biomolecular Engg - Indoor Photovoltaic Product Design
UID:25539
END:VEVENT
END:VCALENDAR