BEGIN:VCALENDAR
PRODID:-//HKUST Drupal Platform//EN
VERSION:2.0
BEGIN:VTIMEZONE
TZID:Asia/Hong_Kong
BEGIN:STANDARD
DTSTART:20071104T020000
TZOFFSETFROM:+0700
TZOFFSETTO:+0800
TZNAME:HKT
END:STANDARD
END:VTIMEZONE
BEGIN:VEVENT
DTSTAMP;TZID=Asia/Hong_Kong:20260425T111628
DTSTART;TZID=Asia/Hong_Kong:20170821T143000
DTEND;TZID=Asia/Hong_Kong:20170821T173000
LOCATION:Room 2302 (Lift 17-18), 2/F Academic Building, HKUST
SUMMARY:PhD in Life Science - Regulation of Microtubule Organization by Myomegalin Variant 8–AKAP450 Complex at the Golgi Apparatus
UID:25516
END:VEVENT
END:VCALENDAR