BEGIN:VCALENDAR
PRODID:-//HKUST Drupal Platform//EN
VERSION:2.0
BEGIN:VTIMEZONE
TZID:Asia/Hong_Kong
BEGIN:STANDARD
DTSTART:20071104T020000
TZOFFSETFROM:+0700
TZOFFSETTO:+0800
TZNAME:HKT
END:STANDARD
END:VTIMEZONE
BEGIN:VEVENT
DTSTAMP;TZID=Asia/Hong_Kong:20260425T111629
DTSTART;TZID=Asia/Hong_Kong:20170822T100000
DTEND;TZID=Asia/Hong_Kong:20170822T130000
LOCATION:Room 2302 (Lift 17-18), 2/F Academic Building, HKUST
SUMMARY:PhD in Life Science - Chemical and Pharmacological Assessments of Acori Tatarinowii Rhizoma: Identification of Asarone as Active Chemical for Neuro-Protective Functions
UID:25509
END:VEVENT
END:VCALENDAR