BEGIN:VCALENDAR
PRODID:-//HKUST Drupal Platform//EN
VERSION:2.0
BEGIN:VTIMEZONE
TZID:Asia/Hong_Kong
BEGIN:STANDARD
DTSTART:20071104T020000
TZOFFSETFROM:+0700
TZOFFSETTO:+0800
TZNAME:HKT
END:STANDARD
END:VTIMEZONE
BEGIN:VEVENT
DTSTAMP;TZID=Asia/Hong_Kong:20260425T224547
DTSTART;TZID=Asia/Hong_Kong:20170824T160000
DTEND;TZID=Asia/Hong_Kong:20170824T190000
LOCATION:Room 2503 (Lifts 25-26), 2/F Academic Building, HKUST
SUMMARY:PhD in Mechanical Engineering - First-principles Modeling of Non-aqueous Lithium-oxygen Batteries
UID:25476
END:VEVENT
END:VCALENDAR