BEGIN:VCALENDAR
PRODID:-//HKUST Drupal Platform//EN
VERSION:2.0
BEGIN:VTIMEZONE
TZID:Asia/Hong_Kong
BEGIN:STANDARD
DTSTART:20071104T020000
TZOFFSETFROM:+0700
TZOFFSETTO:+0800
TZNAME:HKT
END:STANDARD
END:VTIMEZONE
BEGIN:VEVENT
DTSTAMP;TZID=Asia/Hong_Kong:20260425T224552
DTSTART;TZID=Asia/Hong_Kong:20170825T130000
DTEND;TZID=Asia/Hong_Kong:20170825T140000
LOCATION:Room 4502 (Lifts 25-26), 4/F of Academic Building, HKUST
SUMMARY:PhD in Physics - Optimal Multisensory Integration in Modular Neural Networks
UID:25457
END:VEVENT
END:VCALENDAR