BEGIN:VCALENDAR
PRODID:-//HKUST Drupal Platform//EN
VERSION:2.0
BEGIN:VTIMEZONE
TZID:Asia/Hong_Kong
BEGIN:STANDARD
DTSTART:20071104T020000
TZOFFSETFROM:+0700
TZOFFSETTO:+0800
TZNAME:HKT
END:STANDARD
END:VTIMEZONE
BEGIN:VEVENT
DTSTAMP;TZID=Asia/Hong_Kong:20260425T220746
DTSTART;TZID=Asia/Hong_Kong:20170825T160000
DTEND;TZID=Asia/Hong_Kong:20170825T190000
LOCATION:Room 5560 (Lifts 27-28), 5/F Academic Building, HKUST
SUMMARY:PhD in Mechanical Engineering - Compressive Behavior of NiTi PillarsEffect of Internal and External Length Scales
UID:25450
END:VEVENT
END:VCALENDAR