BEGIN:VCALENDAR
PRODID:-//HKUST Drupal Platform//EN
VERSION:2.0
BEGIN:VTIMEZONE
TZID:Asia/Hong_Kong
BEGIN:STANDARD
DTSTART:20071104T020000
TZOFFSETFROM:+0700
TZOFFSETTO:+0800
TZNAME:HKT
END:STANDARD
END:VTIMEZONE
BEGIN:VEVENT
DTSTAMP;TZID=Asia/Hong_Kong:20260420T180904
DTSTART;TZID=Asia/Hong_Kong:20171020T130000
DTEND;TZID=Asia/Hong_Kong:20171020T140000
LOCATION:Tsang Shiu Tim Art Hall
SUMMARY:香港舞蹈團《中國舞 • 民族情》A Showcase of Chinese Dance by Hong Kong Dance Company
UID:25279
END:VEVENT
END:VCALENDAR