BEGIN:VCALENDAR
PRODID:-//HKUST Drupal Platform//EN
VERSION:2.0
BEGIN:VTIMEZONE
TZID:Asia/Hong_Kong
BEGIN:STANDARD
DTSTART:20071104T020000
TZOFFSETFROM:+0700
TZOFFSETTO:+0800
TZNAME:HKT
END:STANDARD
END:VTIMEZONE
BEGIN:VEVENT
DTSTAMP;TZID=Asia/Hong_Kong:20260420T180905
DTSTART;TZID=Asia/Hong_Kong:20171024T130000
DTEND;TZID=Asia/Hong_Kong:20171024T140000
LOCATION:Tsang Shiu Tim Art Hall
SUMMARY:The Beauty of Xinjiang Folk Dance: talk and demonstration
UID:25273
END:VEVENT
END:VCALENDAR