BEGIN:VCALENDAR
PRODID:-//HKUST Drupal Platform//EN
VERSION:2.0
BEGIN:VTIMEZONE
TZID:Asia/Hong_Kong
BEGIN:STANDARD
DTSTART:20071104T020000
TZOFFSETFROM:+0700
TZOFFSETTO:+0800
TZNAME:HKT
END:STANDARD
END:VTIMEZONE
BEGIN:VEVENT
DTSTAMP;TZID=Asia/Hong_Kong:20260425T220747
DTSTART;TZID=Asia/Hong_Kong:20171101T103000
DTEND;TZID=Asia/Hong_Kong:20171101T133000
LOCATION:Room 4475 (Lifts 25 &26), 4/F Academic Building, HKUST
SUMMARY:PhD in Electronic and Computer Engineering - Connection Discovery through User-shared Images: from Multimedia Big Data Characterization, Analytics to Applications
UID:25252
END:VEVENT
END:VCALENDAR