BEGIN:VCALENDAR
PRODID:-//HKUST Drupal Platform//EN
VERSION:2.0
BEGIN:VTIMEZONE
TZID:Asia/Hong_Kong
BEGIN:STANDARD
DTSTART:20071104T020000
TZOFFSETFROM:+0700
TZOFFSETTO:+0800
TZNAME:HKT
END:STANDARD
END:VTIMEZONE
BEGIN:VEVENT
DTSTAMP;TZID=Asia/Hong_Kong:20260420T165610
DTSTART;TZID=Asia/Hong_Kong:20171128T193000
DTEND;TZID=Asia/Hong_Kong:20171128T210000
LOCATION:Tsang Shiu Tim Art Hall
SUMMARY:\"Piano Works from Argentina\" Solo Recital by Jacqueline Petitto
UID:25138
END:VEVENT
END:VCALENDAR