BEGIN:VCALENDAR
PRODID:-//HKUST Drupal Platform//EN
VERSION:2.0
BEGIN:VTIMEZONE
TZID:Asia/Hong_Kong
BEGIN:STANDARD
DTSTART:20071104T020000
TZOFFSETFROM:+0700
TZOFFSETTO:+0800
TZNAME:HKT
END:STANDARD
END:VTIMEZONE
BEGIN:VEVENT
DTSTAMP;TZID=Asia/Hong_Kong:20260425T225906
DTSTART;TZID=Asia/Hong_Kong:20171214T100000
DTEND;TZID=Asia/Hong_Kong:20171214T130000
LOCATION:Room 5554 (Lifts 27-28), 5/F Academic Building, HKUST
SUMMARY:PhD in Industrial Engg & Log Mgmt - Essays on Knowledge Sharing and Social Learning
UID:25064
END:VEVENT
END:VCALENDAR