BEGIN:VCALENDAR
PRODID:-//HKUST Drupal Platform//EN
VERSION:2.0
BEGIN:VTIMEZONE
TZID:Asia/Hong_Kong
BEGIN:STANDARD
DTSTART:20071104T020000
TZOFFSETFROM:+0700
TZOFFSETTO:+0800
TZNAME:HKT
END:STANDARD
END:VTIMEZONE
BEGIN:VEVENT
DTSTAMP;TZID=Asia/Hong_Kong:20260426T095404
DTSTART;TZID=Asia/Hong_Kong:20180116T103000
DTEND;TZID=Asia/Hong_Kong:20180116T133000
LOCATION:Room 4582 (Lifts 29-30), 4/f Academic Building, HKUST
SUMMARY:MPhil in Chem & Biomolecular Engg - Preparation of Super-strong UHMWPE Thin/ultra-thin Membranes Transparent Nanoporous Membranes
UID:24964
END:VEVENT
END:VCALENDAR