BEGIN:VCALENDAR
PRODID:-//HKUST Drupal Platform//EN
VERSION:2.0
BEGIN:VTIMEZONE
TZID:Asia/Hong_Kong
BEGIN:STANDARD
DTSTART:20071104T020000
TZOFFSETFROM:+0700
TZOFFSETTO:+0800
TZNAME:HKT
END:STANDARD
END:VTIMEZONE
BEGIN:VEVENT
DTSTAMP;TZID=Asia/Hong_Kong:20260426T115059
DTSTART;TZID=Asia/Hong_Kong:20180122T150000
DTEND;TZID=Asia/Hong_Kong:20180122T180000
LOCATION:Room 4503 (Lifts 25-26), 4/F Academic Building, HKUST
SUMMARY:MPhil in Life Science - Delineate an Interplay between Epigenetic Pathways
UID:24939
END:VEVENT
END:VCALENDAR